Workbook

Sheet Settings
A1: Monthly Ad Budget Tracker
A2: Month: (enter month)
A5: Item | B5: Value
A6: Monthly budget | B6: 30000
A7: Days in month | B7: 30
A8: Account balance at month start | B8: 5000

Sheet Daily
A1: Monthly Ad Budget Tracker
A2: Enter actual spend for each day and any top-ups; the other columns are calculated automatically. Delete the examples before use.
A5: Day | B5: Date | C5: Planned spend | D5: Actual spend | E5: Planned to date | F5: Actual to date | G5: Difference | H5: Pacing % | I5: Top-up | J5: Remaining balance | K5: Balance lasts (days)
A6: 1 | B6: 2026-11-01 | C6: =IF(A6<='Settings'!$B$7,'Settings'!$B$6/'Settings'!$B$7,"") | D6: 980 | E6: =IF(C6="","",SUM(C$6:C6)) | F6: =IF(D6="","",SUM(D$6:D6)) | G6: =IF(F6="","",F6-E6) | H6: =IF(OR(F6="",N(E6)=0),"",F6/E6*100) | J6: =IF(D6="","",'Settings'!$B$8+SUM(I$6:I6)-SUM(D$6:D6)) | K6: =IF(OR(J6="",AVERAGE(D$6:D6)=0),"",J6/AVERAGE(D$6:D6))
A7: 2 | B7: 2026-11-02 | C7: =IF(A7<='Settings'!$B$7,'Settings'!$B$6/'Settings'!$B$7,"") | D7: 1040 | E7: =IF(C7="","",SUM(C$6:C7)) | F7: =IF(D7="","",SUM(D$6:D7)) | G7: =IF(F7="","",F7-E7) | H7: =IF(OR(F7="",N(E7)=0),"",F7/E7*100) | J7: =IF(D7="","",'Settings'!$B$8+SUM(I$6:I7)-SUM(D$6:D7)) | K7: =IF(OR(J7="",AVERAGE(D$6:D7)=0),"",J7/AVERAGE(D$6:D7))
A8: 3 | B8: 2026-11-03 | C8: =IF(A8<='Settings'!$B$7,'Settings'!$B$6/'Settings'!$B$7,"") | D8: 1120 | E8: =IF(C8="","",SUM(C$6:C8)) | F8: =IF(D8="","",SUM(D$6:D8)) | G8: =IF(F8="","",F8-E8) | H8: =IF(OR(F8="",N(E8)=0),"",F8/E8*100) | J8: =IF(D8="","",'Settings'!$B$8+SUM(I$6:I8)-SUM(D$6:D8)) | K8: =IF(OR(J8="",AVERAGE(D$6:D8)=0),"",J8/AVERAGE(D$6:D8))
A9: 4 | B9: 2026-11-04 | C9: =IF(A9<='Settings'!$B$7,'Settings'!$B$6/'Settings'!$B$7,"") | D9: 990 | E9: =IF(C9="","",SUM(C$6:C9)) | F9: =IF(D9="","",SUM(D$6:D9)) | G9: =IF(F9="","",F9-E9) | H9: =IF(OR(F9="",N(E9)=0),"",F9/E9*100) | I9: 5000 | J9: =IF(D9="","",'Settings'!$B$8+SUM(I$6:I9)-SUM(D$6:D9)) | K9: =IF(OR(J9="",AVERAGE(D$6:D9)=0),"",J9/AVERAGE(D$6:D9))
A10: 5 | B10: 2026-11-05 | C10: =IF(A10<='Settings'!$B$7,'Settings'!$B$6/'Settings'!$B$7,"") | D10: 1210 | E10: =IF(C10="","",SUM(C$6:C10)) | F10: =IF(D10="","",SUM(D$6:D10)) | G10: =IF(F10="","",F10-E10) | H10: =IF(OR(F10="",N(E10)=0),"",F10/E10*100) | J10: =IF(D10="","",'Settings'!$B$8+SUM(I$6:I10)-SUM(D$6:D10)) | K10: =IF(OR(J10="",AVERAGE(D$6:D10)=0),"",J10/AVERAGE(D$6:D10))
A11: 6 | B11: 2026-11-06 | C11: =IF(A11<='Settings'!$B$7,'Settings'!$B$6/'Settings'!$B$7,"") | D11: 1060 | E11: =IF(C11="","",SUM(C$6:C11)) | F11: =IF(D11="","",SUM(D$6:D11)) | G11: =IF(F11="","",F11-E11) | H11: =IF(OR(F11="",N(E11)=0),"",F11/E11*100) | J11: =IF(D11="","",'Settings'!$B$8+SUM(I$6:I11)-SUM(D$6:D11)) | K11: =IF(OR(J11="",AVERAGE(D$6:D11)=0),"",J11/AVERAGE(D$6:D11))
A12: 7 | B12: 2026-11-07 | C12: =IF(A12<='Settings'!$B$7,'Settings'!$B$6/'Settings'!$B$7,"") | D12: 950 | E12: =IF(C12="","",SUM(C$6:C12)) | F12: =IF(D12="","",SUM(D$6:D12)) | G12: =IF(F12="","",F12-E12) | H12: =IF(OR(F12="",N(E12)=0),"",F12/E12*100) | J12: =IF(D12="","",'Settings'!$B$8+SUM(I$6:I12)-SUM(D$6:D12)) | K12: =IF(OR(J12="",AVERAGE(D$6:D12)=0),"",J12/AVERAGE(D$6:D12))
A13: 8 | B13: 2026-11-08 | C13: =IF(A13<='Settings'!$B$7,'Settings'!$B$6/'Settings'!$B$7,"") | D13: 1180 | E13: =IF(C13="","",SUM(C$6:C13)) | F13: =IF(D13="","",SUM(D$6:D13)) | G13: =IF(F13="","",F13-E13) | H13: =IF(OR(F13="",N(E13)=0),"",F13/E13*100) | J13: =IF(D13="","",'Settings'!$B$8+SUM(I$6:I13)-SUM(D$6:D13)) | K13: =IF(OR(J13="",AVERAGE(D$6:D13)=0),"",J13/AVERAGE(D$6:D13))
A14: 9 | B14: 2026-11-09 | C14: =IF(A14<='Settings'!$B$7,'Settings'!$B$6/'Settings'!$B$7,"") | D14: 1020 | E14: =IF(C14="","",SUM(C$6:C14)) | F14: =IF(D14="","",SUM(D$6:D14)) | G14: =IF(F14="","",F14-E14) | H14: =IF(OR(F14="",N(E14)=0),"",F14/E14*100) | I14: 6000 | J14: =IF(D14="","",'Settings'!$B$8+SUM(I$6:I14)-SUM(D$6:D14)) | K14: =IF(OR(J14="",AVERAGE(D$6:D14)=0),"",J14/AVERAGE(D$6:D14))
A15: 10 | B15: 2026-11-10 | C15: =IF(A15<='Settings'!$B$7,'Settings'!$B$6/'Settings'!$B$7,"") | D15: 1100 | E15: =IF(C15="","",SUM(C$6:C15)) | F15: =IF(D15="","",SUM(D$6:D15)) | G15: =IF(F15="","",F15-E15) | H15: =IF(OR(F15="",N(E15)=0),"",F15/E15*100) | J15: =IF(D15="","",'Settings'!$B$8+SUM(I$6:I15)-SUM(D$6:D15)) | K15: =IF(OR(J15="",AVERAGE(D$6:D15)=0),"",J15/AVERAGE(D$6:D15))
A16: 11 | C16: =IF(A16<='Settings'!$B$7,'Settings'!$B$6/'Settings'!$B$7,"") | E16: =IF(C16="","",SUM(C$6:C16)) | F16: =IF(D16="","",SUM(D$6:D16)) | G16: =IF(F16="","",F16-E16) | H16: =IF(OR(F16="",N(E16)=0),"",F16/E16*100) | J16: =IF(D16="","",'Settings'!$B$8+SUM(I$6:I16)-SUM(D$6:D16)) | K16: =IF(OR(J16="",AVERAGE(D$6:D16)=0),"",J16/AVERAGE(D$6:D16))
A17: 12 | C17: =IF(A17<='Settings'!$B$7,'Settings'!$B$6/'Settings'!$B$7,"") | E17: =IF(C17="","",SUM(C$6:C17)) | F17: =IF(D17="","",SUM(D$6:D17)) | G17: =IF(F17="","",F17-E17) | H17: =IF(OR(F17="",N(E17)=0),"",F17/E17*100) | J17: =IF(D17="","",'Settings'!$B$8+SUM(I$6:I17)-SUM(D$6:D17)) | K17: =IF(OR(J17="",AVERAGE(D$6:D17)=0),"",J17/AVERAGE(D$6:D17))
A18: 13 | C18: =IF(A18<='Settings'!$B$7,'Settings'!$B$6/'Settings'!$B$7,"") | E18: =IF(C18="","",SUM(C$6:C18)) | F18: =IF(D18="","",SUM(D$6:D18)) | G18: =IF(F18="","",F18-E18) | H18: =IF(OR(F18="",N(E18)=0),"",F18/E18*100) | J18: =IF(D18="","",'Settings'!$B$8+SUM(I$6:I18)-SUM(D$6:D18)) | K18: =IF(OR(J18="",AVERAGE(D$6:D18)=0),"",J18/AVERAGE(D$6:D18))
A19: 14 | C19: =IF(A19<='Settings'!$B$7,'Settings'!$B$6/'Settings'!$B$7,"") | E19: =IF(C19="","",SUM(C$6:C19)) | F19: =IF(D19="","",SUM(D$6:D19)) | G19: =IF(F19="","",F19-E19) | H19: =IF(OR(F19="",N(E19)=0),"",F19/E19*100) | J19: =IF(D19="","",'Settings'!$B$8+SUM(I$6:I19)-SUM(D$6:D19)) | K19: =IF(OR(J19="",AVERAGE(D$6:D19)=0),"",J19/AVERAGE(D$6:D19))
A20: 15 | C20: =IF(A20<='Settings'!$B$7,'Settings'!$B$6/'Settings'!$B$7,"") | E20: =IF(C20="","",SUM(C$6:C20)) | F20: =IF(D20="","",SUM(D$6:D20)) | G20: =IF(F20="","",F20-E20) | H20: =IF(OR(F20="",N(E20)=0),"",F20/E20*100) | J20: =IF(D20="","",'Settings'!$B$8+SUM(I$6:I20)-SUM(D$6:D20)) | K20: =IF(OR(J20="",AVERAGE(D$6:D20)=0),"",J20/AVERAGE(D$6:D20))
A21: 16 | C21: =IF(A21<='Settings'!$B$7,'Settings'!$B$6/'Settings'!$B$7,"") | E21: =IF(C21="","",SUM(C$6:C21)) | F21: =IF(D21="","",SUM(D$6:D21)) | G21: =IF(F21="","",F21-E21) | H21: =IF(OR(F21="",N(E21)=0),"",F21/E21*100) | J21: =IF(D21="","",'Settings'!$B$8+SUM(I$6:I21)-SUM(D$6:D21)) | K21: =IF(OR(J21="",AVERAGE(D$6:D21)=0),"",J21/AVERAGE(D$6:D21))
A22: 17 | C22: =IF(A22<='Settings'!$B$7,'Settings'!$B$6/'Settings'!$B$7,"") | E22: =IF(C22="","",SUM(C$6:C22)) | F22: =IF(D22="","",SUM(D$6:D22)) | G22: =IF(F22="","",F22-E22) | H22: =IF(OR(F22="",N(E22)=0),"",F22/E22*100) | J22: =IF(D22="","",'Settings'!$B$8+SUM(I$6:I22)-SUM(D$6:D22)) | K22: =IF(OR(J22="",AVERAGE(D$6:D22)=0),"",J22/AVERAGE(D$6:D22))
A23: 18 | C23: =IF(A23<='Settings'!$B$7,'Settings'!$B$6/'Settings'!$B$7,"") | E23: =IF(C23="","",SUM(C$6:C23)) | F23: =IF(D23="","",SUM(D$6:D23)) | G23: =IF(F23="","",F23-E23) | H23: =IF(OR(F23="",N(E23)=0),"",F23/E23*100) | J23: =IF(D23="","",'Settings'!$B$8+SUM(I$6:I23)-SUM(D$6:D23)) | K23: =IF(OR(J23="",AVERAGE(D$6:D23)=0),"",J23/AVERAGE(D$6:D23))
A24: 19 | C24: =IF(A24<='Settings'!$B$7,'Settings'!$B$6/'Settings'!$B$7,"") | E24: =IF(C24="","",SUM(C$6:C24)) | F24: =IF(D24="","",SUM(D$6:D24)) | G24: =IF(F24="","",F24-E24) | H24: =IF(OR(F24="",N(E24)=0),"",F24/E24*100) | J24: =IF(D24="","",'Settings'!$B$8+SUM(I$6:I24)-SUM(D$6:D24)) | K24: =IF(OR(J24="",AVERAGE(D$6:D24)=0),"",J24/AVERAGE(D$6:D24))
A25: 20 | C25: =IF(A25<='Settings'!$B$7,'Settings'!$B$6/'Settings'!$B$7,"") | E25: =IF(C25="","",SUM(C$6:C25)) | F25: =IF(D25="","",SUM(D$6:D25)) | G25: =IF(F25="","",F25-E25) | H25: =IF(OR(F25="",N(E25)=0),"",F25/E25*100) | J25: =IF(D25="","",'Settings'!$B$8+SUM(I$6:I25)-SUM(D$6:D25)) | K25: =IF(OR(J25="",AVERAGE(D$6:D25)=0),"",J25/AVERAGE(D$6:D25))
A26: 21 | C26: =IF(A26<='Settings'!$B$7,'Settings'!$B$6/'Settings'!$B$7,"") | E26: =IF(C26="","",SUM(C$6:C26)) | F26: =IF(D26="","",SUM(D$6:D26)) | G26: =IF(F26="","",F26-E26) | H26: =IF(OR(F26="",N(E26)=0),"",F26/E26*100) | J26: =IF(D26="","",'Settings'!$B$8+SUM(I$6:I26)-SUM(D$6:D26)) | K26: =IF(OR(J26="",AVERAGE(D$6:D26)=0),"",J26/AVERAGE(D$6:D26))
A27: 22 | C27: =IF(A27<='Settings'!$B$7,'Settings'!$B$6/'Settings'!$B$7,"") | E27: =IF(C27="","",SUM(C$6:C27)) | F27: =IF(D27="","",SUM(D$6:D27)) | G27: =IF(F27="","",F27-E27) | H27: =IF(OR(F27="",N(E27)=0),"",F27/E27*100) | J27: =IF(D27="","",'Settings'!$B$8+SUM(I$6:I27)-SUM(D$6:D27)) | K27: =IF(OR(J27="",AVERAGE(D$6:D27)=0),"",J27/AVERAGE(D$6:D27))
... A36: 31 | C36: =IF(A36<='Settings'!$B$7,'Settings'!$B$6/'Settings'!$B$7,"") | E36: =IF(C36="","",SUM(C$6:C36)) | F36: =IF(D36="","",SUM(D$6:D36)) | G36: =IF(F36="","",F36-E36) | H36: =IF(OR(F36="",N(E36)=0),"",F36/E36*100) | J36: =IF(D36="","",'Settings'!$B$8+SUM(I$6:I36)-SUM(D$6:D36)) | K36: =IF(OR(J36="",AVERAGE(D$6:D36)=0),"",J36/AVERAGE(D$6:D36))

Sheet Summary
A1: Monthly Ad Budget Tracker
A5: Metric | B5: Value
A6: Monthly budget | B6: ='Settings'!$B$6
A7: Spent so far | B7: =SUM('Daily'!D6:D36)
A8: Budget remaining | B8: =B6-B7
A9: Budget used % | B9: =IF(B6>0,B7/B6*100,"")
A10: Days recorded | B10: =COUNT('Daily'!D6:D36)
A11: Planned spend to date | B11: =IF('Settings'!$B$7>0,B6/'Settings'!$B$7*B10,"")
A12: Pacing % | B12: =IF(N(B11)>0,B7/B11*100,"")
A13: Projected month spend | B13: =IF(B10>0,B7/B10*'Settings'!$B$7,"")
A14: Current account balance | B14: ='Settings'!$B$8+SUM('Daily'!I6:I36)-B7
A15: Balance lasts (days) | B15: =IF(B10>0,IF(B7>0,B14/(B7/B10),""),"")
